BEGIN:VCALENDAR
VERSION:2.0
PRODID:-//Squarespace Inc/Squarespace 6//v6//EN
BEGIN:VEVENT
UID:59a3b38fcd39c3181c5428db@squarespace.com
DTSTAMP:20170828T061237Z
DTSTART:20170909T220000Z
DTEND:20170910T000000Z
SUMMARY:Canterbury Rowing Club Open day
END:VEVENT
END:VCALENDAR
