BEGIN:VCALENDAR
VERSION:2.0
PRODID:-//Squarespace Inc/Squarespace 6//v6//EN
BEGIN:VEVENT
UID:59a3b561cd0f681b1cb5de57@squarespace.com
DTSTAMP:20170828T063535Z
DTSTART:20170828T063000Z
DTEND:20170828T073000Z
SUMMARY:CRC Corporate Rowing Regatta
END:VEVENT
END:VCALENDAR
