BEGIN:VCALENDAR
VERSION:2.0
PRODID:-//Squarespace Inc/Squarespace 6//v6//EN
BEGIN:VEVENT
UID:59a3b476a803bb0577578c42@squarespace.com
DTSTAMP:20170828T061426Z
DTSTART:20170930T190000Z
DTEND:20171001T040000Z
SUMMARY:CRC Indoor Regatta
END:VEVENT
END:VCALENDAR
