BEGIN:VCALENDAR
VERSION:2.0
PRODID:-//Squarespace Inc/Squarespace 6//v6//EN
BEGIN:VEVENT
UID:574a707c746fb940f10ca0ce@squarespace.com
DTSTAMP:20160529T043702Z
DTSTART:20160805T200000Z
DTEND:20160814T030000Z
SUMMARY:Olympic Games Rowing Regatta
END:VEVENT
END:VCALENDAR
