BEGIN:VCALENDAR
VERSION:2.0
PRODID:-//Squarespace Inc/Squarespace 6//v6//EN
BEGIN:VEVENT
UID:574a7153f8baf34bebd34e8f@squarespace.com
DTSTAMP:20160529T043719Z
DTSTART:20160820T200000Z
DTEND:20160828T030000Z
SUMMARY:Junior\, U23 and Senior World Champs
END:VEVENT
END:VCALENDAR
