BEGIN:VCALENDAR
VERSION:2.0
PRODID:-//Squarespace Inc/Squarespace 6//v6//EN
BEGIN:VEVENT
UID:574a724d3c44d8bd12b41e2c@squarespace.com
DTSTAMP:20160529T043940Z
DTSTART:20160616T210000Z
DTEND:20160619T030000Z
SUMMARY:World Cup 3
END:VEVENT
END:VCALENDAR
