BEGIN:VCALENDAR
VERSION:2.0
PRODID:-//Squarespace Inc/Squarespace 6//v6//EN
BEGIN:VEVENT
UID:55860a4fe4b09925a6cfd57b@squarespace.com
DTSTAMP:20150621T013044Z
DTSTART:20160304T190000Z
DTEND:20160306T010000Z
SUMMARY:Canterbury Secondary Schools Championships
END:VEVENT
END:VCALENDAR
