BEGIN:VCALENDAR
VERSION:2.0
PRODID:-//Squarespace Inc/Squarespace 6//v6//EN
BEGIN:VEVENT
UID:55860cece4b04f0a4c069fe2@squarespace.com
DTSTAMP:20150621T011203Z
DTSTART:20160102T000000Z
DTEND:20160105T230000Z
SUMMARY:Training Camp
END:VEVENT
END:VCALENDAR
