BEGIN:VCALENDAR
VERSION:2.0
PRODID:-//Squarespace Inc/Squarespace 6//v6//EN
BEGIN:VEVENT
UID:55861371e4b076b608143e52@squarespace.com
DTSTAMP:20150621T013013Z
DTSTART:20160115T183000Z
DTEND:20160117T020000Z
SUMMARY:Canterbury Championships
END:VEVENT
END:VCALENDAR
