BEGIN:VCALENDAR
VERSION:2.0
PRODID:-//Squarespace Inc/Squarespace 6//v6//EN
BEGIN:VEVENT
UID:55860c1fe4b05491799314d6@squarespace.com
DTSTAMP:20150621T011130Z
DTSTART:20150926T180000Z
DTEND:20150926T190000Z
SUMMARY:Kaiapoi Long Distance
END:VEVENT
END:VCALENDAR
