BEGIN:VCALENDAR
VERSION:2.0
PRODID:-//Squarespace Inc/Squarespace 6//v6//EN
BEGIN:VEVENT
UID:558612b0e4b04f6516e11d66@squarespace.com
DTSTAMP:20150621T012807Z
DTSTART:20150911T210000Z
DTEND:20150912T000000Z
SUMMARY:Open Day (time TBC)
END:VEVENT
END:VCALENDAR
