BEGIN:VCALENDAR
VERSION:2.0
PRODID:-//Squarespace Inc/Squarespace 6//v6//EN
BEGIN:VEVENT
UID:55860d45e4b0afbde96dd459@squarespace.com
DTSTAMP:20150621T011155Z
DTSTART:20151211T183000Z
DTEND:20151213T020000Z
SUMMARY:Otago Champs
END:VEVENT
END:VCALENDAR
