BEGIN:VCALENDAR
VERSION:2.0
PRODID:-//Squarespace Inc/Squarespace 6//v6//EN
BEGIN:VEVENT
UID:55860d8de4b0403b40cd9bde@squarespace.com
DTSTAMP:20150621T011148Z
DTSTART:20151030T190000Z
DTEND:20151101T010000Z
SUMMARY:1st Pennant Regatta (one day only)
END:VEVENT
END:VCALENDAR
