BEGIN:VCALENDAR
VERSION:2.0
PRODID:-//Squarespace Inc/Squarespace 6//v6//EN
BEGIN:VEVENT
UID:55860e83e4b0761641840268@squarespace.com
DTSTAMP:20150621T011141Z
DTSTART:20151024T200000Z
DTEND:20151024T220000Z
SUMMARY:Dunstan Long Distance
END:VEVENT
END:VCALENDAR
