BEGIN:VCALENDAR
VERSION:2.0
PRODID:-//Squarespace Inc/Squarespace 6//v6//EN
BEGIN:VEVENT
UID:5210407ee4b004f80b49140c@squarespace.com
DTSTAMP:20150621T004716Z
DTSTART:20160318T183000Z
DTEND:20160320T020000Z
SUMMARY:South Island Secondary Schools Championships
END:VEVENT
END:VCALENDAR
