BEGIN:VCALENDAR
VERSION:2.0
PRODID:-//Squarespace Inc/Squarespace 6//v6//EN
BEGIN:VEVENT
UID:521040bce4b0c36e7d259fde@squarespace.com
DTSTAMP:20150621T004823Z
DTSTART:20160403T193000Z
DTEND:20160409T060000Z
SUMMARY:New Zealand Secondary Schools Championships (Maadi Cup)
END:VEVENT
END:VCALENDAR
