BEGIN:VCALENDAR
VERSION:2.0
PRODID:-//Squarespace Inc/Squarespace 6//v6//EN
BEGIN:VEVENT
UID:52104005e4b088f3b66c58de@squarespace.com
DTSTAMP:20150621T004811Z
DTSTART:20160215T190000Z
DTEND:20160220T040000Z
SUMMARY:New Zealand National Championships
END:VEVENT
END:VCALENDAR
