BEGIN:VCALENDAR
VERSION:2.0
PRODID:-//Squarespace Inc/Squarespace 6//v6//EN
BEGIN:VEVENT
UID:52103f6ae4b01103f36332b2@squarespace.com
DTSTAMP:20150621T005008Z
DTSTART:20160129T180000Z
DTEND:20160131T020000Z
SUMMARY:South Island Championships
END:VEVENT
END:VCALENDAR
